BEGIN:VCALENDAR
VERSION:2.0
PRODID:-//Core Timing - ECPv6.15.14//NONSGML v1.0//EN
CALSCALE:GREGORIAN
METHOD:PUBLISH
X-ORIGINAL-URL:https://coretiming.ie
X-WR-CALDESC:Events for Core Timing
REFRESH-INTERVAL;VALUE=DURATION:PT1H
X-Robots-Tag:noindex
X-PUBLISHED-TTL:PT1H
BEGIN:VTIMEZONE
TZID:Europe/Dublin
BEGIN:STANDARD
TZOFFSETFROM:+0000
TZOFFSETTO:+0100
TZNAME:IST
DTSTART:20230326T010000
END:STANDARD
BEGIN:DAYLIGHT
TZOFFSETFROM:+0100
TZOFFSETTO:+0000
TZNAME:GMT
DTSTART:20231029T010000
END:DAYLIGHT
BEGIN:STANDARD
TZOFFSETFROM:+0000
TZOFFSETTO:+0100
TZNAME:IST
DTSTART:20240331T010000
END:STANDARD
BEGIN:DAYLIGHT
TZOFFSETFROM:+0100
TZOFFSETTO:+0000
TZNAME:GMT
DTSTART:20241027T010000
END:DAYLIGHT
BEGIN:STANDARD
TZOFFSETFROM:+0000
TZOFFSETTO:+0100
TZNAME:IST
DTSTART:20250330T010000
END:STANDARD
BEGIN:DAYLIGHT
TZOFFSETFROM:+0100
TZOFFSETTO:+0000
TZNAME:GMT
DTSTART:20251026T010000
END:DAYLIGHT
END:VTIMEZONE
BEGIN:VEVENT
DTSTART;TZID=Europe/Dublin:20240713T080000
DTEND;TZID=Europe/Dublin:20240713T093000
DTSTAMP:20260421T085113
CREATED:20240704T184234Z
LAST-MODIFIED:20240713T145825Z
UID:8219-1720857600-1720863000@coretiming.ie
SUMMARY:Swim Ireland River Moy Swim 600m and 2.5km - 24
DESCRIPTION:Coretiming is proud to time events for Swim Ireland\, Live results:
URL:https://coretiming.ie/events/swim-ireland-river-moy-swim-600m-and-2-5km-24/
CATEGORIES:Swim
ATTACH;FMTTYPE=image/jpeg:https://coretiming.ie/wp-content/uploads/2023/07/355859237_821334959351596_4978329742885361936_n.jpg
END:VEVENT
BEGIN:VEVENT
DTSTART;TZID=Europe/Dublin:20240713T100000
DTEND;TZID=Europe/Dublin:20240713T103000
DTSTAMP:20260421T085113
CREATED:20240627T153008Z
LAST-MODIFIED:20240713T145618Z
UID:8188-1720864800-1720866600@coretiming.ie
SUMMARY:Race 2 Glory - 2024
DESCRIPTION:Core Timing is pleased to bring you the results of the 2023 Race 2 Glory right here live as they happen.
URL:https://coretiming.ie/events/race-2-glory-2024/
LOCATION:Race 2 Glory – Kiltimagh\, Kiltimagh\, Mayo\, Ireland
CATEGORIES:Duathlon,Multi-Event,Triathlon
ATTACH;FMTTYPE=image/png:https://coretiming.ie/wp-content/uploads/2023/03/Race2Glory-Logo-1.png
ORGANIZER;CN="Race2Glory":MAILTO:race2glory@gmail.com
END:VEVENT
BEGIN:VEVENT
DTSTART;TZID=Europe/Dublin:20240720T133000
DTEND;TZID=Europe/Dublin:20240720T140000
DTSTAMP:20260421T085113
CREATED:20240628T110432Z
LAST-MODIFIED:20240720T163755Z
UID:8196-1721482200-1721484000@coretiming.ie
SUMMARY:Dom's Wish 5K Fun Run & Walk
DESCRIPTION:Coretiming.ie is delighted to bring you the timing as it happens\, from this great charity event…
URL:https://coretiming.ie/events/doms-wish/
LOCATION:Aughris Head\, Sligo\, Ireland
CATEGORIES:5K,Run,Walk
ATTACH;FMTTYPE=image/jpeg:https://coretiming.ie/wp-content/uploads/2024/06/Sligo-Coast.jpg
END:VEVENT
BEGIN:VEVENT
DTSTART;TZID=Europe/Dublin:20240721T080000
DTEND;TZID=Europe/Dublin:20240721T113000
DTSTAMP:20260421T085113
CREATED:20240720T220527Z
LAST-MODIFIED:20240720T220537Z
UID:8255-1721548800-1721561400@coretiming.ie
SUMMARY:Sligo Ac 5 Mile Challenge 24
DESCRIPTION:
URL:https://coretiming.ie/events/sligo-ac-5-mile-challenge-24/
LOCATION:strandhill\, The Strand Bar\, Ireland
CATEGORIES:5 Mile
ATTACH;FMTTYPE=image/jpeg:https://coretiming.ie/wp-content/uploads/2024/07/320069486_1222211155308252_8012963915405469414_n.jpg
END:VEVENT
BEGIN:VEVENT
DTSTART;TZID=Europe/Dublin:20240721T110000
DTEND;TZID=Europe/Dublin:20240721T110000
DTSTAMP:20260421T085113
CREATED:20240719T214838Z
LAST-MODIFIED:20240719T215115Z
UID:8248-1721559600-1721559600@coretiming.ie
SUMMARY:Galbally 5Mile and 5km Event 24
DESCRIPTION:Coretiming are proud to Offer Live Results to the Annual Galbally 5mile and 5km
URL:https://coretiming.ie/events/galbally-5mile-and-5km-event-24/
LOCATION:Galbally\, BT702NX\, United Kingdom
CATEGORIES:5 Mile,5K,Run
ATTACH;FMTTYPE=image/jpeg:https://coretiming.ie/wp-content/uploads/2023/07/347580978_789173066327473_4316921046102221373_n.jpg
END:VEVENT
BEGIN:VEVENT
DTSTART;TZID=Europe/Dublin:20240723T080000
DTEND;TZID=Europe/Dublin:20240723T170000
DTSTAMP:20260421T085113
CREATED:20240723T195557Z
LAST-MODIFIED:20240723T195557Z
UID:8259-1721721600-1721754000@coretiming.ie
SUMMARY:Swim Ireland Belmullet 24
DESCRIPTION:
URL:https://coretiming.ie/events/swim-ireland-belmullet-24/
LOCATION:Belmullet
CATEGORIES:Swim
ATTACH;FMTTYPE=image/jpeg:https://coretiming.ie/wp-content/uploads/2024/06/355859237_821334959351596_4978329742885361936_n.jpg
END:VEVENT
BEGIN:VEVENT
DTSTART;TZID=Europe/Dublin:20240727T090000
DTEND;TZID=Europe/Dublin:20240727T100000
DTSTAMP:20260421T085113
CREATED:20240704T184528Z
LAST-MODIFIED:20240724T204035Z
UID:8221-1722070800-1722074400@coretiming.ie
SUMMARY:Salmon Run Triathlon - 2024
DESCRIPTION:Core Timing is pleased to bring you the results of the Salmon Run Triathlon – 2024 as they happen right here.
URL:https://coretiming.ie/events/salmon-run-triathlon-2024/
LOCATION:Salmon Run Triathlon\, The Ridge Pool\, Ballina\, Mayo\, Ireland
CATEGORIES:Triathlon
ATTACH;FMTTYPE=image/jpeg:https://coretiming.ie/wp-content/uploads/2024/07/1080-2.jpg
END:VEVENT
BEGIN:VEVENT
DTSTART;TZID=Europe/Dublin:20240727T120000
DTEND;TZID=Europe/Dublin:20240727T123000
DTSTAMP:20260421T085113
CREATED:20240704T185122Z
LAST-MODIFIED:20240724T234325Z
UID:8224-1722081600-1722083400@coretiming.ie
SUMMARY:Tri-Tyrone 70.3 - 2024
DESCRIPTION:Core Timing is pleased to bring you live results for the Tri-Tyrone 70.3 – 2024 as it happens right here.
URL:https://coretiming.ie/events/tri-tyrone-70-3-2024/
LOCATION:Eskragh Lough\, 109 Old Ballygawley Rd\, Dungannon\, Tyrone\, BT70 1TA\, United Kingdom
CATEGORIES:Triathlon
ATTACH;FMTTYPE=image/jpeg:https://coretiming.ie/wp-content/uploads/2023/03/Tri-Limits-scaled.jpeg
END:VEVENT
BEGIN:VEVENT
DTSTART;TZID=Europe/Dublin:20240727T190000
DTEND;TZID=Europe/Dublin:20240727T190000
DTSTAMP:20260421T085113
CREATED:20240704T183409Z
LAST-MODIFIED:20240727T185105Z
UID:8214-1722106800-1722106800@coretiming.ie
SUMMARY:Keash King Of The Hill 24
DESCRIPTION:Coretiming are Proud to time Keash King of The Hill 24 –
URL:https://coretiming.ie/events/keash-king-of-the-hill-24/
LOCATION:Keash\, Keash\, Ballymote\, Sligo\, Ireland
CATEGORIES:10K,5K
ATTACH;FMTTYPE=image/jpeg:https://coretiming.ie/wp-content/uploads/2024/07/keash-king-of-the-hill.jpg
END:VEVENT
BEGIN:VEVENT
DTSTART;TZID=Europe/Dublin:20240728T070000
DTEND;TZID=Europe/Dublin:20240728T093000
DTSTAMP:20260421T085113
CREATED:20240708T192912Z
LAST-MODIFIED:20240728T065540Z
UID:8226-1722150000-1722159000@coretiming.ie
SUMMARY:John Tully Triathlon Castlerea 24
DESCRIPTION:Coretiming is please to bring you times for The John Tully Hospice Triathlon as they happen…
URL:https://coretiming.ie/events/john-tully-triathlon-castlerea-24/
LOCATION:Castlerea Swimming PoolHenry Byrne Rd\, Knockroe\, Castlerea\, Co. Roscommon
CATEGORIES:Triathlon
ATTACH;FMTTYPE=image/jpeg:https://coretiming.ie/wp-content/uploads/2023/08/347420704_821394006159998_4998446063570452449_n.jpg
ORGANIZER;CN="The John Tully Hospice Triathlon":MAILTO:jthospicetriathlon@gmail.com
END:VEVENT
BEGIN:VEVENT
DTSTART;TZID=Europe/Dublin:20240728T080000
DTEND;TZID=Europe/Dublin:20240728T150000
DTSTAMP:20260421T085113
CREATED:20240728T070618Z
LAST-MODIFIED:20240728T102431Z
UID:8271-1722153600-1722178800@coretiming.ie
SUMMARY:Eglinton Road Runners 5km 24
DESCRIPTION:
URL:https://coretiming.ie/events/eglinton-road-runners-5km-24/
CATEGORIES:5K
ATTACH;FMTTYPE=image/jpeg:https://coretiming.ie/wp-content/uploads/2024/07/417411441_1179897972973170_3041360556012967275_n.jpg
END:VEVENT
BEGIN:VEVENT
DTSTART;TZID=Europe/Dublin:20240730T080000
DTEND;TZID=Europe/Dublin:20240730T170000
DTSTAMP:20260421T085113
CREATED:20240730T123303Z
LAST-MODIFIED:20240730T123303Z
UID:8276-1722326400-1722358800@coretiming.ie
SUMMARY:An Cregan 5km 24
DESCRIPTION:
URL:https://coretiming.ie/events/an-cregan-5km-24/
CATEGORIES:5K
ATTACH;FMTTYPE=image/jpeg:https://coretiming.ie/wp-content/uploads/2024/07/carmen-Runners.jpg
END:VEVENT
END:VCALENDAR