BEGIN:VCALENDAR
VERSION:2.0
PRODID:-//Core Timing - ECPv6.15.14//NONSGML v1.0//EN
CALSCALE:GREGORIAN
METHOD:PUBLISH
X-ORIGINAL-URL:https://coretiming.ie
X-WR-CALDESC:Events for Core Timing
REFRESH-INTERVAL;VALUE=DURATION:PT1H
X-Robots-Tag:noindex
X-PUBLISHED-TTL:PT1H
BEGIN:VTIMEZONE
TZID:Europe/Dublin
BEGIN:STANDARD
TZOFFSETFROM:+0000
TZOFFSETTO:+0100
TZNAME:IST
DTSTART:20230326T010000
END:STANDARD
BEGIN:DAYLIGHT
TZOFFSETFROM:+0100
TZOFFSETTO:+0000
TZNAME:GMT
DTSTART:20231029T010000
END:DAYLIGHT
BEGIN:STANDARD
TZOFFSETFROM:+0000
TZOFFSETTO:+0100
TZNAME:IST
DTSTART:20240331T010000
END:STANDARD
BEGIN:DAYLIGHT
TZOFFSETFROM:+0100
TZOFFSETTO:+0000
TZNAME:GMT
DTSTART:20241027T010000
END:DAYLIGHT
BEGIN:STANDARD
TZOFFSETFROM:+0000
TZOFFSETTO:+0100
TZNAME:IST
DTSTART:20250330T010000
END:STANDARD
BEGIN:DAYLIGHT
TZOFFSETFROM:+0100
TZOFFSETTO:+0000
TZNAME:GMT
DTSTART:20251026T010000
END:DAYLIGHT
END:VTIMEZONE
BEGIN:VEVENT
DTSTART;TZID=Europe/Dublin:20240309T100000
DTEND;TZID=Europe/Dublin:20240309T100000
DTSTAMP:20260420T174658
CREATED:20240308T224433Z
LAST-MODIFIED:20240308T224433Z
UID:7966-1709978400-1709978400@coretiming.ie
SUMMARY:Knockma Duathlon 24
DESCRIPTION:Live Results
URL:https://coretiming.ie/events/knockma-duathlon-24/
CATEGORIES:Duathlon
ATTACH;FMTTYPE=image/jpeg:https://coretiming.ie/wp-content/uploads/2023/06/306076757_556125269645844_8831710937020368849_n.jpg
END:VEVENT
BEGIN:VEVENT
DTSTART;TZID=Europe/Dublin:20240310T080000
DTEND;TZID=Europe/Dublin:20240310T170000
DTSTAMP:20260420T174658
CREATED:20240306T145048Z
LAST-MODIFIED:20240306T145048Z
UID:7960-1710057600-1710090000@coretiming.ie
SUMMARY:Carlow Duathlon 24
DESCRIPTION:Coretiming is Proud to proivde Live Timing to Carlow Dauthlon 24
URL:https://coretiming.ie/events/carlow-duathlon-24/
CATEGORIES:Duathlon
ATTACH;FMTTYPE=image/jpeg:https://coretiming.ie/wp-content/uploads/2024/03/Carlow-Tri.jpg
END:VEVENT
BEGIN:VEVENT
DTSTART;VALUE=DATE:20240317
DTEND;VALUE=DATE:20240318
DTSTAMP:20260420T174658
CREATED:20230322T162736Z
LAST-MODIFIED:20240317T101952Z
UID:6700-1710633600-1710719999@coretiming.ie
SUMMARY:Tubbercurry 10 & 5K - 2024
DESCRIPTION:
URL:https://coretiming.ie/events/tubbercurry-10-5k-2024/
LOCATION:Tubbercurry\, Tubbercurry\, Sligo\, Ireland
CATEGORIES:10K,5K
ATTACH;FMTTYPE=image/jpeg:https://coretiming.ie/wp-content/uploads/2018/03/Tubbber10k-Logo.jpg
ORGANIZER;CN="South Sligo Athletics Club":MAILTO:southsligoathleticclub7@gmail.com
END:VEVENT
BEGIN:VEVENT
DTSTART;TZID=Europe/Dublin:20240324T080000
DTEND;TZID=Europe/Dublin:20240324T090000
DTSTAMP:20260420T174658
CREATED:20240304T181753Z
LAST-MODIFIED:20240324T130445Z
UID:7953-1711267200-1711270800@coretiming.ie
SUMMARY:Portadown Running Festival 24
DESCRIPTION:Coretiming is proud to give you live results to Portadown Runnning Club
URL:https://coretiming.ie/events/portadown-running-festival-24/
LOCATION:Portadown\, Portadown\, Armagh\, United Kingdom
CATEGORIES:10K,Half Marathon
ATTACH;FMTTYPE=image/jpeg:https://coretiming.ie/wp-content/uploads/2024/03/280031170_105561092155145_4954634195216410771_n.jpg
END:VEVENT
BEGIN:VEVENT
DTSTART;TZID=Europe/Dublin:20240329T180000
DTEND;TZID=Europe/Dublin:20240329T180000
DTSTAMP:20260420T174658
CREATED:20240329T145220Z
LAST-MODIFIED:20240329T145220Z
UID:8009-1711735200-1711735200@coretiming.ie
SUMMARY:Grange Easter 5km 24
DESCRIPTION:
URL:https://coretiming.ie/events/grange-easter-5km-24/
LOCATION:Grange\, Ireland
CATEGORIES:5K
ATTACH;FMTTYPE=image/jpeg:https://coretiming.ie/wp-content/uploads/2024/03/North-Sligo.jpg
END:VEVENT
BEGIN:VEVENT
DTSTART;TZID=Europe/Dublin:20240330T000000
DTEND;TZID=Europe/Dublin:20240330T130000
DTSTAMP:20260420T174658
CREATED:20240330T014636Z
LAST-MODIFIED:20240330T205754Z
UID:8020-1711756800-1711803600@coretiming.ie
SUMMARY:Kilmovee 5km Results 24
DESCRIPTION:
URL:https://coretiming.ie/events/kilmovee-5km-24/
LOCATION:Kilmovee Shamrocks GAA\, Culcastle\, Mayo\, F45 PX49\, Ireland
CATEGORIES:10K,5K
ATTACH;FMTTYPE=image/jpeg:https://coretiming.ie/wp-content/uploads/2024/03/kilmovee-10k.jpg
END:VEVENT
BEGIN:VEVENT
DTSTART;TZID=Europe/Dublin:20240330T080000
DTEND;TZID=Europe/Dublin:20240330T130000
DTSTAMP:20260420T174658
CREATED:20240329T224159Z
LAST-MODIFIED:20240330T205340Z
UID:8015-1711785600-1711803600@coretiming.ie
SUMMARY:2024 Kilmovee 10KM Results
DESCRIPTION:Results for Kilmovee 24
URL:https://coretiming.ie/events/2024-kilmovee-5-and-10k-road-races/
LOCATION:Kilmovee Shamrocks GAA\, Culcastle\, Mayo\, F45 PX49\, Ireland
CATEGORIES:10K,5K
ATTACH;FMTTYPE=image/jpeg:https://coretiming.ie/wp-content/uploads/2024/03/kilmovee-10k.jpg
END:VEVENT
BEGIN:VEVENT
DTSTART;TZID=Europe/Dublin:20240331T080000
DTEND;TZID=Europe/Dublin:20240331T080000
DTSTAMP:20260420T174658
CREATED:20240331T012216Z
LAST-MODIFIED:20240331T012216Z
UID:8039-1711872000-1711872000@coretiming.ie
SUMMARY:Clogher Valley 5km 24
DESCRIPTION:
URL:https://coretiming.ie/events/clogher-valley-5km-24/
LOCATION:Clogher Valley Community Centre\, Augher\, Augher\, Ulster\, BT77 0BL\, United Kingdom
CATEGORIES:5K
ATTACH;FMTTYPE=image/jpeg:https://coretiming.ie/wp-content/uploads/2024/03/417699735_436614162229487_6645888245766256260_n.jpg
END:VEVENT
END:VCALENDAR