BEGIN:VCALENDAR
VERSION:2.0
PRODID:-//Core Timing - ECPv6.15.14//NONSGML v1.0//EN
CALSCALE:GREGORIAN
METHOD:PUBLISH
X-ORIGINAL-URL:https://coretiming.ie
X-WR-CALDESC:Events for Core Timing
REFRESH-INTERVAL;VALUE=DURATION:PT1H
X-Robots-Tag:noindex
X-PUBLISHED-TTL:PT1H
BEGIN:VTIMEZONE
TZID:Europe/Dublin
BEGIN:STANDARD
TZOFFSETFROM:+0000
TZOFFSETTO:+0100
TZNAME:IST
DTSTART:20230326T010000
END:STANDARD
BEGIN:DAYLIGHT
TZOFFSETFROM:+0100
TZOFFSETTO:+0000
TZNAME:GMT
DTSTART:20231029T010000
END:DAYLIGHT
BEGIN:STANDARD
TZOFFSETFROM:+0000
TZOFFSETTO:+0100
TZNAME:IST
DTSTART:20240331T010000
END:STANDARD
BEGIN:DAYLIGHT
TZOFFSETFROM:+0100
TZOFFSETTO:+0000
TZNAME:GMT
DTSTART:20241027T010000
END:DAYLIGHT
BEGIN:STANDARD
TZOFFSETFROM:+0000
TZOFFSETTO:+0100
TZNAME:IST
DTSTART:20250330T010000
END:STANDARD
BEGIN:DAYLIGHT
TZOFFSETFROM:+0100
TZOFFSETTO:+0000
TZNAME:GMT
DTSTART:20251026T010000
END:DAYLIGHT
END:VTIMEZONE
BEGIN:VEVENT
DTSTART;TZID=Europe/Dublin:20240825T080000
DTEND;TZID=Europe/Dublin:20240825T110000
DTSTAMP:20260425T115405
CREATED:20240824T224341Z
LAST-MODIFIED:20240825T161033Z
UID:8320-1724572800-1724583600@coretiming.ie
SUMMARY:Swim Ireland Lough Key 24 3km \,1.5km and 800m
DESCRIPTION:
URL:https://coretiming.ie/events/swim-ireland-lough-key-24-3km-1-5km-and-800m/
LOCATION:Lough Key Forest Park\, LAKESIDE Café\, Rockingham\, Boyle\, Roscommon\, F52 PY66\, Ireland
CATEGORIES:Swim
ATTACH;FMTTYPE=image/jpeg:https://coretiming.ie/wp-content/uploads/2024/06/355859237_821334959351596_4978329742885361936_n.jpg
END:VEVENT
BEGIN:VEVENT
DTSTART;TZID=Europe/Dublin:20240831T080000
DTEND;TZID=Europe/Dublin:20240831T130000
DTSTAMP:20260425T115405
CREATED:20240831T132546Z
LAST-MODIFIED:20240831T132828Z
UID:8324-1725091200-1725109200@coretiming.ie
SUMMARY:Swim Ireland Inch Mile Swim 24
DESCRIPTION:
URL:https://coretiming.ie/events/swim-ireland-inch-mile-swim-24/
CATEGORIES:Swim
ATTACH;FMTTYPE=image/jpeg:https://coretiming.ie/wp-content/uploads/2024/06/355859237_821334959351596_4978329742885361936_n.jpg
END:VEVENT
END:VCALENDAR