BEGIN:VCALENDAR
VERSION:2.0
PRODID:-//Core Timing - ECPv6.15.14//NONSGML v1.0//EN
CALSCALE:GREGORIAN
METHOD:PUBLISH
X-ORIGINAL-URL:https://coretiming.ie
X-WR-CALDESC:Events for Core Timing
REFRESH-INTERVAL;VALUE=DURATION:PT1H
X-Robots-Tag:noindex
X-PUBLISHED-TTL:PT1H
BEGIN:VTIMEZONE
TZID:Europe/Dublin
BEGIN:STANDARD
TZOFFSETFROM:+0000
TZOFFSETTO:+0100
TZNAME:IST
DTSTART:20220327T010000
END:STANDARD
BEGIN:DAYLIGHT
TZOFFSETFROM:+0100
TZOFFSETTO:+0000
TZNAME:GMT
DTSTART:20221030T010000
END:DAYLIGHT
BEGIN:STANDARD
TZOFFSETFROM:+0000
TZOFFSETTO:+0100
TZNAME:IST
DTSTART:20230326T010000
END:STANDARD
BEGIN:DAYLIGHT
TZOFFSETFROM:+0100
TZOFFSETTO:+0000
TZNAME:GMT
DTSTART:20231029T010000
END:DAYLIGHT
BEGIN:STANDARD
TZOFFSETFROM:+0000
TZOFFSETTO:+0100
TZNAME:IST
DTSTART:20240331T010000
END:STANDARD
BEGIN:DAYLIGHT
TZOFFSETFROM:+0100
TZOFFSETTO:+0000
TZNAME:GMT
DTSTART:20241027T010000
END:DAYLIGHT
END:VTIMEZONE
BEGIN:VEVENT
DTSTART;TZID=Europe/Dublin:20230401T120000
DTEND;TZID=Europe/Dublin:20230401T133000
DTSTAMP:20260421T134008
CREATED:20230401T135958Z
LAST-MODIFIED:20230401T135958Z
UID:7219-1680350400-1680355800@coretiming.ie
SUMMARY:Hazelwood 5k Fun Run - 2023
DESCRIPTION:Core Timing is pleased to bring you the results of the 2023 Hazelwood 5k Fun Run
URL:https://coretiming.ie/events/hazelwood-5k-fun-run-2023/
LOCATION:Calry Community Park\, Sligo\, Sligo\, Ireland
CATEGORIES:5K,Fun Run
ATTACH;FMTTYPE=image/jpeg:https://coretiming.ie/wp-content/uploads/2023/04/Calry-AC-5k.jpg
END:VEVENT
END:VCALENDAR