BEGIN:VCALENDAR
VERSION:2.0
PRODID:-//Core Timing - ECPv6.15.14//NONSGML v1.0//EN
CALSCALE:GREGORIAN
METHOD:PUBLISH
X-ORIGINAL-URL:https://coretiming.ie
X-WR-CALDESC:Events for Core Timing
REFRESH-INTERVAL;VALUE=DURATION:PT1H
X-Robots-Tag:noindex
X-PUBLISHED-TTL:PT1H
BEGIN:VTIMEZONE
TZID:Europe/Dublin
BEGIN:STANDARD
TZOFFSETFROM:+0000
TZOFFSETTO:+0100
TZNAME:IST
DTSTART:20220327T010000
END:STANDARD
BEGIN:DAYLIGHT
TZOFFSETFROM:+0100
TZOFFSETTO:+0000
TZNAME:GMT
DTSTART:20221030T010000
END:DAYLIGHT
BEGIN:STANDARD
TZOFFSETFROM:+0000
TZOFFSETTO:+0100
TZNAME:IST
DTSTART:20230326T010000
END:STANDARD
BEGIN:DAYLIGHT
TZOFFSETFROM:+0100
TZOFFSETTO:+0000
TZNAME:GMT
DTSTART:20231029T010000
END:DAYLIGHT
BEGIN:STANDARD
TZOFFSETFROM:+0000
TZOFFSETTO:+0100
TZNAME:IST
DTSTART:20240331T010000
END:STANDARD
BEGIN:DAYLIGHT
TZOFFSETFROM:+0100
TZOFFSETTO:+0000
TZNAME:GMT
DTSTART:20241027T010000
END:DAYLIGHT
END:VTIMEZONE
BEGIN:VEVENT
DTSTART;TZID=Europe/Dublin:20231008T080000
DTEND;TZID=Europe/Dublin:20231008T170000
DTSTAMP:20260425T153826
CREATED:20231006T144757Z
LAST-MODIFIED:20231006T144757Z
UID:7815-1696752000-1696784400@coretiming.ie
SUMMARY:Tarmonbarry 3/4 Marathon \, 1/2 Marathon and 8km 23`
DESCRIPTION:Live timing brought to you by Coretiming
URL:https://coretiming.ie/events/tarmonbarry-3-4-marathon-1-2-marathon-and-8km-23/
CATEGORIES:8Km,Half Marathon,Marathon
ATTACH;FMTTYPE=image/jpeg:https://coretiming.ie/wp-content/uploads/2018/10/Tarmonbarry.jpg
END:VEVENT
END:VCALENDAR