BEGIN:VCALENDAR
VERSION:2.0
PRODID:-//Core Timing - ECPv6.15.14//NONSGML v1.0//EN
CALSCALE:GREGORIAN
METHOD:PUBLISH
X-WR-CALNAME:Core Timing
X-ORIGINAL-URL:https://coretiming.ie
X-WR-CALDESC:Events for Core Timing
REFRESH-INTERVAL;VALUE=DURATION:PT1H
X-Robots-Tag:noindex
X-PUBLISHED-TTL:PT1H
BEGIN:VTIMEZONE
TZID:Europe/Dublin
BEGIN:STANDARD
TZOFFSETFROM:+0000
TZOFFSETTO:+0100
TZNAME:IST
DTSTART:20230326T010000
END:STANDARD
BEGIN:DAYLIGHT
TZOFFSETFROM:+0100
TZOFFSETTO:+0000
TZNAME:GMT
DTSTART:20231029T010000
END:DAYLIGHT
BEGIN:STANDARD
TZOFFSETFROM:+0000
TZOFFSETTO:+0100
TZNAME:IST
DTSTART:20240331T010000
END:STANDARD
BEGIN:DAYLIGHT
TZOFFSETFROM:+0100
TZOFFSETTO:+0000
TZNAME:GMT
DTSTART:20241027T010000
END:DAYLIGHT
BEGIN:STANDARD
TZOFFSETFROM:+0000
TZOFFSETTO:+0100
TZNAME:IST
DTSTART:20250330T010000
END:STANDARD
BEGIN:DAYLIGHT
TZOFFSETFROM:+0100
TZOFFSETTO:+0000
TZNAME:GMT
DTSTART:20251026T010000
END:DAYLIGHT
END:VTIMEZONE
BEGIN:VEVENT
DTSTART;TZID=Europe/Dublin:20241201T113000
DTEND;TZID=Europe/Dublin:20241201T113000
DTSTAMP:20260421T202307
CREATED:20241129T204658Z
LAST-MODIFIED:20241130T235517Z
UID:8406-1733052600-1733052600@coretiming.ie
SUMMARY:Belleek 10 & 5K 2024
DESCRIPTION:
URL:https://coretiming.ie/events/belleek-10-5k-2024/
LOCATION:Ballina Town Football Club\, Belleek\, Ballina\, Mayo\, F26 V840\, Ireland
CATEGORIES:10K,5K
ATTACH;FMTTYPE=image/jpeg:https://coretiming.ie/wp-content/uploads/2024/11/Belleek10k.jpeg
END:VEVENT
BEGIN:VEVENT
DTSTART;TZID=Europe/Dublin:20241214T140000
DTEND;TZID=Europe/Dublin:20241214T140000
DTSTAMP:20260421T202307
CREATED:20241213T133020Z
LAST-MODIFIED:20241213T133040Z
UID:8425-1734184800-1734184800@coretiming.ie
SUMMARY:Knockmanny Rudolph 10km and 5km 24
DESCRIPTION:
URL:https://coretiming.ie/events/knockmanny-rudolph-10km-and-5km-24/
LOCATION:Knockmanny\, BT78 2RJ\, United Kingdom
CATEGORIES:10K,5K
ATTACH;FMTTYPE=image/jpeg:https://coretiming.ie/wp-content/uploads/2024/12/307100021_396505869324119_5857599867412646201_n.jpg
END:VEVENT
END:VCALENDAR