BEGIN:VCALENDAR
VERSION:2.0
PRODID:-//Core Timing - ECPv6.15.14//NONSGML v1.0//EN
CALSCALE:GREGORIAN
METHOD:PUBLISH
X-ORIGINAL-URL:https://coretiming.ie
X-WR-CALDESC:Events for Core Timing
REFRESH-INTERVAL;VALUE=DURATION:PT1H
X-Robots-Tag:noindex
X-PUBLISHED-TTL:PT1H
BEGIN:VTIMEZONE
TZID:Europe/Dublin
BEGIN:STANDARD
TZOFFSETFROM:+0000
TZOFFSETTO:+0100
TZNAME:IST
DTSTART:20230326T010000
END:STANDARD
BEGIN:DAYLIGHT
TZOFFSETFROM:+0100
TZOFFSETTO:+0000
TZNAME:GMT
DTSTART:20231029T010000
END:DAYLIGHT
BEGIN:STANDARD
TZOFFSETFROM:+0000
TZOFFSETTO:+0100
TZNAME:IST
DTSTART:20240331T010000
END:STANDARD
BEGIN:DAYLIGHT
TZOFFSETFROM:+0100
TZOFFSETTO:+0000
TZNAME:GMT
DTSTART:20241027T010000
END:DAYLIGHT
BEGIN:STANDARD
TZOFFSETFROM:+0000
TZOFFSETTO:+0100
TZNAME:IST
DTSTART:20250330T010000
END:STANDARD
BEGIN:DAYLIGHT
TZOFFSETFROM:+0100
TZOFFSETTO:+0000
TZNAME:GMT
DTSTART:20251026T010000
END:DAYLIGHT
END:VTIMEZONE
BEGIN:VEVENT
DTSTART;TZID=Europe/Dublin:20241006T080000
DTEND;TZID=Europe/Dublin:20241006T100000
DTSTAMP:20260421T025602
CREATED:20241005T202345Z
LAST-MODIFIED:20241006T135051Z
UID:8391-1728201600-1728208800@coretiming.ie
SUMMARY:Grange 10km 24
DESCRIPTION:
URL:https://coretiming.ie/events/grange-10km-24/
LOCATION:Grange\, Ireland
CATEGORIES:10K
ATTACH;FMTTYPE=image/jpeg:https://coretiming.ie/wp-content/uploads/2024/10/WhatsApp-Image-2024-10-05-at-21.29.29_ce1545db.jpg
END:VEVENT
END:VCALENDAR